BEGIN:VCALENDAR
VERSION:2.0
PRODID:-//Multyfarnham Cookery School - ECPv4.6.2//NONSGML v1.0//EN
CALSCALE:GREGORIAN
METHOD:PUBLISH
X-WR-CALNAME:Multyfarnham Cookery School
X-ORIGINAL-URL:http://multyfarnhamcookeryschool.ie
X-WR-CALDESC:Events for Multyfarnham Cookery School
BEGIN:VEVENT
DTSTART;VALUE=DATE:20171102
DTEND;VALUE=DATE:20171104
DTSTAMP:20171106T185950
CREATED:20170926T185334Z
LAST-MODIFIED:20171026T130923Z
UID:2423-1509580800-1509753599@multyfarnhamcookeryschool.ie
SUMMARY:Kids Halloween camp age group 11 to 16- 3pm-6pm Cancelled.
DESCRIPTION:3.00pm-6.00pm \nPrice including all the ingredients and lunch. 50.00€   Cancelled  \n
URL:http://multyfarnhamcookeryschool.ie/event/kids-halloween-camp-age-group-11-16-3pm-6pm/
END:VEVENT
END:VCALENDAR