BEGIN:VCALENDAR
VERSION:2.0
PRODID:-//Multyfarnham Cookery School - ECPv4.6.2//NONSGML v1.0//EN
CALSCALE:GREGORIAN
METHOD:PUBLISH
X-WR-CALNAME:Multyfarnham Cookery School
X-ORIGINAL-URL:http://multyfarnhamcookeryschool.ie
X-WR-CALDESC:Events for Multyfarnham Cookery School
BEGIN:VEVENT
DTSTART;TZID=UTC+0:20171109T183000
DTEND;TZID=UTC+0:20171109T213000
DTSTAMP:20171106T190551
CREATED:20171019T121931Z
LAST-MODIFIED:20171019T122319Z
UID:2457-1510252200-1510263000@multyfarnhamcookeryschool.ie
SUMMARY:Christmas made Easy 6.30pm-9.30pm
DESCRIPTION:ALL THE HELPFUL HINTS AND IDEAS THAT YOU NEED TO MAKE THINGS EXTRA SPECIAL AND EXTRA EASY FOR THE FESTIVE SEASON!! \n6:30pm -9:30pm   \n60.00€ Don’t forget that lot of tasting to do  Book Now \n
URL:http://multyfarnhamcookeryschool.ie/event/christmas-made-easy-6-30pm-9-30pm/
END:VEVENT
END:VCALENDAR